BEGIN:VCALENDAR
PRODID:-//eluceo/ical//2.0/EN
VERSION:2.0
CALSCALE:GREGORIAN
BEGIN:VEVENT
UID:ebee5eb939d10208b42f49ba1f8a75ba
DTSTAMP:20260424T032001Z
SUMMARY:Congregation B'nai Shalom and Beth Tikvah Mitzvah Day
DESCRIPTION:Jewish Federation of Central Massachusetts\nCalendar\nhttps://j
 ewishcentralmass.org/calendar/cal134\n\nCongregation B'nai Shalom and Beth
  Tikvah Mitzvah Day
DTSTART;TZID=America/New_York:20150412T090000
DTEND;TZID=America/New_York:20150412T170000
END:VEVENT
END:VCALENDAR
