BEGIN:VCALENDAR
PRODID:-//eluceo/ical//2.0/EN
VERSION:2.0
CALSCALE:GREGORIAN
BEGIN:VEVENT
UID:08fc7892d431341562099a8cb23d6025
DTSTAMP:20260424T143012Z
SUMMARY:Jewish Federation of Central Mass Board Meeting
DESCRIPTION:Jewish Federation of Central Massachusetts\nCalendar\nhttps://j
 ewishcentralmass.org/calendar/cal132\n\nJewish Federation of Central Mass 
 Board Meeting
DTSTART;TZID=America/New_York:20150407T193000
DTEND;TZID=America/New_York:20150407T210000
END:VEVENT
END:VCALENDAR
