BEGIN:VCALENDAR
PRODID:-//eluceo/ical//2.0/EN
VERSION:2.0
CALSCALE:GREGORIAN
BEGIN:VEVENT
UID:8f6032f1ce450f6e77f3105490e27c91
DTSTAMP:20260422T122607Z
SUMMARY:Congregation Beth Israel Passover Community Chocolate Seder
DESCRIPTION:Jewish Federation of Central Massachusetts\nCalendar\nhttps://j
 ewishcentralmass.org/calendar/cal131\n\nCongregation Beth Israel Passover 
 Community Chocolate Seder
DTSTART;TZID=America/New_York:20150405T123000
DTEND;TZID=America/New_York:20150405T150000
END:VEVENT
END:VCALENDAR
