BEGIN:VCALENDAR
PRODID:-//eluceo/ical//2.0/EN
VERSION:2.0
CALSCALE:GREGORIAN
BEGIN:VEVENT
UID:a3b79f0e6febc4e98ea72bf5b51f9767
DTSTAMP:20260422T183214Z
SUMMARY:Jewish Healthcare Center Auxillary Open Meeting
DESCRIPTION:Jewish Federation of Central Massachusetts\nCalendar\nhttps://j
 ewishcentralmass.org/calendar/cal13\n\nJewish Healthcare Center Auxillary 
 Open Meeting
DTSTART;TZID=America/New_York:20140903T130000
DTEND;TZID=America/New_York:20140903T150000
END:VEVENT
END:VCALENDAR
