BEGIN:VCALENDAR
PRODID:-//eluceo/ical//2.0/EN
VERSION:2.0
CALSCALE:GREGORIAN
BEGIN:VEVENT
UID:5771ccdd7937a7ef4594b3e07ba0e05d
DTSTAMP:20260423T183218Z
SUMMARY:Temple Emanuel Sinai Brotherhood Breakfast
DESCRIPTION:Jewish Federation of Central Massachusetts\nCalendar\nhttps://j
 ewishcentralmass.org/calendar/cal128\n\nTemple Emanuel Sinai Brotherhood B
 reakfast
DTSTART;TZID=America/New_York:20150329T093000
DTEND;TZID=America/New_York:20150329T110000
END:VEVENT
END:VCALENDAR
