BEGIN:VCALENDAR
PRODID:-//eluceo/ical//2.0/EN
VERSION:2.0
CALSCALE:GREGORIAN
BEGIN:VEVENT
UID:994b0cbe14a97931bbfb31a942ed3c8d
DTSTAMP:20260423T060803Z
SUMMARY:Congregation Beth Israel Board Meeting
DESCRIPTION:Jewish Federation of Central Massachusetts\nCalendar\nhttps://j
 ewishcentralmass.org/calendar/cal127\n\nCongregation Beth Israel Board Mee
 ting
DTSTART;TZID=America/New_York:20150326T193000
DTEND;TZID=America/New_York:20150326T210000
END:VEVENT
END:VCALENDAR
