BEGIN:VCALENDAR
PRODID:-//eluceo/ical//2.0/EN
VERSION:2.0
CALSCALE:GREGORIAN
BEGIN:VEVENT
UID:5614f0508519a63bba22678386499da3
DTSTAMP:20260422T044451Z
SUMMARY:Pardes Parent Meeting
DESCRIPTION:Jewish Federation of Central Massachusetts\nCalendar\nhttps://j
 ewishcentralmass.org/calendar/cal126\n\nPardes Parent Meeting
DTSTART;TZID=America/New_York:20150325T161500
DTEND;TZID=America/New_York:20150325T180000
END:VEVENT
END:VCALENDAR
