BEGIN:VCALENDAR
PRODID:-//eluceo/ical//2.0/EN
VERSION:2.0
CALSCALE:GREGORIAN
BEGIN:VEVENT
UID:a9a1cd030d4ded988cd0d612f3b40269
DTSTAMP:20260422T092425Z
SUMMARY:Beth Tikvah Open House
DESCRIPTION:Jewish Federation of Central Massachusetts\nCalendar\nhttps://j
 ewishcentralmass.org/calendar/cal124\n\nBeth Tikvah Open House
DTSTART;TZID=America/New_York:20150322T090000
DTEND;TZID=America/New_York:20150322T110000
END:VEVENT
END:VCALENDAR
