BEGIN:VCALENDAR
PRODID:-//eluceo/ical//2.0/EN
VERSION:2.0
CALSCALE:GREGORIAN
BEGIN:VEVENT
UID:fbd90429e14a62b3cb4e30c1baba4b29
DTSTAMP:20260424T153250Z
SUMMARY:Beth Tikvah Trivia Night
DESCRIPTION:Jewish Federation of Central Massachusetts\nCalendar\nhttps://j
 ewishcentralmass.org/calendar/cal123\n\nBeth Tikvah Trivia Night
DTSTART;TZID=America/New_York:20150321T180000
DTEND;TZID=America/New_York:20150321T200000
END:VEVENT
END:VCALENDAR
