BEGIN:VCALENDAR
PRODID:-//eluceo/ical//2.0/EN
VERSION:2.0
CALSCALE:GREGORIAN
BEGIN:VEVENT
UID:986eb457437c6a4889fb5b76cfb558f8
DTSTAMP:20260425T185206Z
SUMMARY:JFCM Young Emissary 13th Anniversary Bar Mitzvah Program
DESCRIPTION:Jewish Federation of Central Massachusetts\nCalendar\nhttps://j
 ewishcentralmass.org/calendar/cal122\n\nJewish Federation of Central Mass 
 Young Emissary 13th Anniversary Bar Mitzvah Program
DTSTART;TZID=America/New_York:20150320T190000
DTEND;TZID=America/New_York:20150320T220000
END:VEVENT
END:VCALENDAR
