BEGIN:VCALENDAR
PRODID:-//eluceo/ical//2.0/EN
VERSION:2.0
CALSCALE:GREGORIAN
BEGIN:VEVENT
UID:aebda0eddb0d8d5f5dbd443283af43ee
DTSTAMP:20260423T083543Z
SUMMARY:Jewish Community Center Board Meeting
DESCRIPTION:Jewish Federation of Central Massachusetts\nCalendar\nhttps://j
 ewishcentralmass.org/calendar/cal120\n\nJewish Community Center Board Meet
 ing
DTSTART;TZID=America/New_York:20150319T193000
DTEND;TZID=America/New_York:20150319T210000
END:VEVENT
END:VCALENDAR
