BEGIN:VCALENDAR
PRODID:-//eluceo/ical//2.0/EN
VERSION:2.0
CALSCALE:GREGORIAN
BEGIN:VEVENT
UID:612e10078cc47215d82eb2ad4d57f0e1
DTSTAMP:20260423T224639Z
SUMMARY:Pardes School Committee Meeting
DESCRIPTION:Jewish Federation of Central Massachusetts\nCalendar\nhttps://j
 ewishcentralmass.org/calendar/cal12\n\nPardes School Committee Meeting
DTSTART;TZID=America/New_York:20140915T191500
DTEND;TZID=America/New_York:20140915T210000
END:VEVENT
END:VCALENDAR
