BEGIN:VCALENDAR
PRODID:-//eluceo/ical//2.0/EN
VERSION:2.0
CALSCALE:GREGORIAN
BEGIN:VEVENT
UID:6076eb9a2c6e3c9da714a6b2806363a8
DTSTAMP:20260422T220718Z
SUMMARY:Jewish Healthcare Center Board Meeting
DESCRIPTION:Jewish Federation of Central Massachusetts\nCalendar\nhttps://j
 ewishcentralmass.org/calendar/cal119\n\nJewish Healthcare Center Board Mee
 ting
DTSTART;TZID=America/New_York:20150316T193000
DTEND;TZID=America/New_York:20150316T210000
END:VEVENT
END:VCALENDAR
