BEGIN:VCALENDAR
PRODID:-//eluceo/ical//2.0/EN
VERSION:2.0
CALSCALE:GREGORIAN
BEGIN:VEVENT
UID:d955c9f347f317dcf9588bb30384d196
DTSTAMP:20260423T091653Z
SUMMARY:Jewish Federation of Central Mass Cotton Leadership Program
DESCRIPTION:Jewish Federation of Central Massachusetts\nCalendar\nhttps://j
 ewishcentralmass.org/calendar/cal117\n\nJewish Federation of Central Mass 
 Cotton Leadership Program
DTSTART;TZID=America/New_York:20150315T090000
DTEND;TZID=America/New_York:20150315T120000
END:VEVENT
END:VCALENDAR
