BEGIN:VCALENDAR
PRODID:-//eluceo/ical//2.0/EN
VERSION:2.0
CALSCALE:GREGORIAN
BEGIN:VEVENT
UID:4851d099dc1d79426587269d0b25bbac
DTSTAMP:20260423T185757Z
SUMMARY:Congregation Beth Israel Shabbat in Shul
DESCRIPTION:Jewish Federation of Central Massachusetts\nCalendar\nhttps://j
 ewishcentralmass.org/calendar/cal115\n\nCongregation Beth Israel Shabbat i
 n Shul
DTSTART;TZID=America/New_York:20150314T090000
DTEND;TZID=America/New_York:20150314T110000
END:VEVENT
END:VCALENDAR
