BEGIN:VCALENDAR
PRODID:-//eluceo/ical//2.0/EN
VERSION:2.0
CALSCALE:GREGORIAN
BEGIN:VEVENT
UID:e1b9fb4000b079580a78a03770ef48d8
DTSTAMP:20260421T182857Z
SUMMARY:Temple Emanuel Sinai Brotherhood Breakfast
DESCRIPTION:Jewish Federation of Central Massachusetts\nCalendar\nhttps://j
 ewishcentralmass.org/calendar/cal112\n\nTemple Emanuel Sinai Brotherhood B
 reakfast
DTSTART;TZID=America/New_York:20150308T093000
DTEND;TZID=America/New_York:20150308T110000
END:VEVENT
END:VCALENDAR
