BEGIN:VCALENDAR
PRODID:-//eluceo/ical//2.0/EN
VERSION:2.0
CALSCALE:GREGORIAN
BEGIN:VEVENT
UID:97fe83ee35edca8e6f5218d7aa43bb7d
DTSTAMP:20260423T015308Z
SUMMARY:Beth Tikvah Woman's Shabbat Service
DESCRIPTION:Jewish Federation of Central Massachusetts\nCalendar\nhttps://j
 ewishcentralmass.org/calendar/cal111\n\nBeth Tikvah Woman's Shabbat Servic
 e
DTSTART;TZID=America/New_York:20150307T093000
DTEND;TZID=America/New_York:20150307T110000
END:VEVENT
END:VCALENDAR
