BEGIN:VCALENDAR
PRODID:-//eluceo/ical//2.0/EN
VERSION:2.0
CALSCALE:GREGORIAN
BEGIN:VEVENT
UID:6d7ecf97a7d514681549e6d422b18481
DTSTAMP:20260421T202600Z
SUMMARY:Congregation Beth Israel Welcome New Rabbi
DESCRIPTION:Jewish Federation of Central Massachusetts\nCalendar\nhttps://j
 ewishcentralmass.org/calendar/cal11\n\nCongregation Beth Israel Welcome Ne
 w Rabbi
DTSTART;TZID=America/New_York:20140914T130000
DTEND;TZID=America/New_York:20140914T150000
END:VEVENT
END:VCALENDAR
