BEGIN:VCALENDAR
PRODID:-//eluceo/ical//2.0/EN
VERSION:2.0
CALSCALE:GREGORIAN
BEGIN:VEVENT
UID:1b035e56ed24527d453ca504780b6a71
DTSTAMP:20260422T181341Z
SUMMARY:Jewish Community Center Teen Event
DESCRIPTION:Jewish Federation of Central Massachusetts\nCalendar\nhttps://j
 ewishcentralmass.org/calendar/cal108\n\nJewish Community Center Teen Event
DTSTART;TZID=America/New_York:20150301T140000
DTEND;TZID=America/New_York:20150301T160000
END:VEVENT
END:VCALENDAR
