BEGIN:VCALENDAR
PRODID:-//eluceo/ical//2.0/EN
VERSION:2.0
CALSCALE:GREGORIAN
BEGIN:VEVENT
UID:9c40f2886f9e227711d19995a088c0fb
DTSTAMP:20260423T015738Z
SUMMARY:Congregation Beth Israel Brotherhood Breakfast
DESCRIPTION:Jewish Federation of Central Massachusetts\nCalendar\nhttps://j
 ewishcentralmass.org/calendar/cal107\n\nCongregation Beth Israel Brotherho
 od Breakfast
DTSTART;TZID=America/New_York:20150301T093000
DTEND;TZID=America/New_York:20150301T110000
END:VEVENT
END:VCALENDAR
