BEGIN:VCALENDAR
PRODID:-//eluceo/ical//2.0/EN
VERSION:2.0
CALSCALE:GREGORIAN
BEGIN:VEVENT
UID:e5b5c53a125c0ac1a2e039afa6c15305
DTSTAMP:20260421T210939Z
SUMMARY:Congregation Beth Israel Purim Celebration
DESCRIPTION:Jewish Federation of Central Massachusetts\nCalendar\nhttps://j
 ewishcentralmass.org/calendar/cal106\n\nCongregation Beth Israel Purim Cel
 ebration
DTSTART;TZID=America/New_York:20150307T190000
DTEND;TZID=America/New_York:20150307T220000
END:VEVENT
END:VCALENDAR
