BEGIN:VCALENDAR
PRODID:-//eluceo/ical//2.0/EN
VERSION:2.0
CALSCALE:GREGORIAN
BEGIN:VEVENT
UID:e1d9206978f26b9d174566d22fbc2fa3
DTSTAMP:20260423T043309Z
SUMMARY:Congregation Beth Israel Board Meeting
DESCRIPTION:Jewish Federation of Central Massachusetts\nCalendar\nhttps://j
 ewishcentralmass.org/calendar/cal105\n\nCongregation Beth Israel Board Mee
 ting
DTSTART;TZID=America/New_York:20150226T193000
DTEND;TZID=America/New_York:20150226T210000
END:VEVENT
END:VCALENDAR
