BEGIN:VCALENDAR
PRODID:-//eluceo/ical//2.0/EN
VERSION:2.0
CALSCALE:GREGORIAN
BEGIN:VEVENT
UID:ce2e0d06945945eeb00b34c206b4e666
DTSTAMP:20260424T044747Z
SUMMARY:Jewish War Veterans Breakfast
DESCRIPTION:Jewish Federation of Central Massachusetts\nCalendar\nhttps://j
 ewishcentralmass.org/calendar/cal104\n\nJewish War Veterans Breakfast
DTSTART;TZID=America/New_York:20150222T090000
DTEND;TZID=America/New_York:20150222T110000
END:VEVENT
END:VCALENDAR
