BEGIN:VCALENDAR
PRODID:-//eluceo/ical//2.0/EN
VERSION:2.0
CALSCALE:GREGORIAN
BEGIN:VEVENT
UID:dd919c1f35c9d781a42cc7593dc5980a
DTSTAMP:20260423T110044Z
SUMMARY:Congregation Beth Israel Brotherhood Breakfast
DESCRIPTION:Jewish Federation of Central Massachusetts\nCalendar\nhttps://j
 ewishcentralmass.org/calendar/cal102\n\nCongregation Beth Israel Brotherho
 od Breakfast
DTSTART;TZID=America/New_York:20150215T093000
DTEND;TZID=America/New_York:20150215T110000
END:VEVENT
END:VCALENDAR
