BEGIN:VCALENDAR
PRODID:-//eluceo/ical//2.0/EN
VERSION:2.0
CALSCALE:GREGORIAN
BEGIN:VEVENT
UID:9ae23e405f04c515c8a38004e89b47f3
DTSTAMP:20260423T030814Z
SUMMARY:Jewish Community Center Board Meeting
DESCRIPTION:Jewish Federation of Central Massachusetts\nCalendar\nhttps://j
 ewishcentralmass.org/calendar/cal101\n\nJewish Community Center Board Meet
 ing
DTSTART;TZID=America/New_York:20150212T193000
DTEND;TZID=America/New_York:20150212T210000
END:VEVENT
END:VCALENDAR
