BEGIN:VCALENDAR
PRODID:-//eluceo/ical//2.0/EN
VERSION:2.0
CALSCALE:GREGORIAN
BEGIN:VEVENT
UID:6bfdbf2a5cc79a96e2f4db50192cb71a
DTSTAMP:20260422T124637Z
SUMMARY:Temple Emanuel Sinai Board Meeting
DESCRIPTION:Jewish Federation of Central Massachusetts\nCalendar\nhttps://j
 ewishcentralmass.org/calendar/cal100\n\nTemple Emanuel Sinai Board Meeting
DTSTART;TZID=America/New_York:20150209T193000
DTEND;TZID=America/New_York:20150209T210000
END:VEVENT
END:VCALENDAR
