BEGIN:VCALENDAR
PRODID:-//eluceo/ical//2.0/EN
VERSION:2.0
CALSCALE:GREGORIAN
BEGIN:VEVENT
UID:3370ebcfdadb120cdfe7e2b187a2f51d
DTSTAMP:20260422T043204Z
SUMMARY:Congregation B'nai Shalom\, Beth Tikvah\, Boroughs JCC High Holiday
  Happening
DESCRIPTION:Jewish Federation of Central Massachusetts\nCalendar\nhttps://j
 ewishcentralmass.org/calendar/cal1\n\nCongregation B'nai Shalom\, Beth Tik
 vah\, Boroughs JCC High Holiday Happening
DTSTART;TZID=America/New_York:20140907T100000
DTEND;TZID=America/New_York:20140907T120000
END:VEVENT
END:VCALENDAR
