BEGIN:VCALENDAR
PRODID:-//eluceo/ical//2.0/EN
VERSION:2.0
CALSCALE:GREGORIAN
BEGIN:VEVENT
UID:cb687531ddb7827fbf641c1a21fef21b
DTSTAMP:20260423T114946Z
SUMMARY:Cafe Ivrit with Aviv
DESCRIPTION:Jewish Federation of Central Massachusetts\nCalendar\nhttps://j
 ewishcentralmass.org/calendar/cafe-ivrit-with-aviv\n\nCafe Ivrit with Aviv
 \n\n6:00 - 6:45 pm
DTSTART;TZID=America/New_York:20220324T180000
DTEND;TZID=America/New_York:20220324T184500
END:VEVENT
END:VCALENDAR
