BEGIN:VCALENDAR
PRODID:-//eluceo/ical//2.0/EN
VERSION:2.0
CALSCALE:GREGORIAN
BEGIN:VEVENT
UID:3cbcfb0ddaa11ef11dadaf5848a04242
DTSTAMP:20260423T193709Z
SUMMARY:Café Hakalah program
DESCRIPTION:Jewish Federation of Central Massachusetts\nCalendar\nhttps://j
 ewishcentralmass.org/calendar/caf-hakalah-program\n\nCafé Hakalah program
  \n\nWed. March 27th from 1:30PM -2:30PM.
DTSTART;TZID=America/New_York:20190327T133000
DTEND;TZID=America/New_York:20190327T143000
END:VEVENT
END:VCALENDAR
