BEGIN:VCALENDAR
PRODID:-//eluceo/ical//2.0/EN
VERSION:2.0
CALSCALE:GREGORIAN
BEGIN:VEVENT
UID:2c1e7768636a27b7ecaa6e4015512e20
DTSTAMP:20260423T045319Z
SUMMARY:CAA Tu B'Shevat with Potluck
DESCRIPTION:Jewish Federation of Central Massachusetts\nCalendar\nhttps://j
 ewishcentralmass.org/calendar/caa-tu-bshevat-with-potluck\n\nCAA Tu B'Shev
 at with Potluck\n\nGuest speaker Les Blatt\n\n6:00 pm
DTSTART;TZID=America/New_York:20250207T180000
DTEND;TZID=America/New_York:20250207T200000
END:VEVENT
END:VCALENDAR
