BEGIN:VCALENDAR
PRODID:-//eluceo/ical//2.0/EN
VERSION:2.0
CALSCALE:GREGORIAN
BEGIN:VEVENT
UID:979cbfb5a3918cf53442d7e3e9a77638
DTSTAMP:20260422T131641Z
SUMMARY:CAA Simchat Torah with Mashke
DESCRIPTION:Jewish Federation of Central Massachusetts\nCalendar\nhttps://j
 ewishcentralmass.org/calendar/caa-simchat-torah-with-mashke\n\nCAA Simchat
  Torah with Mashke
DTSTART;TZID=America/New_York:20130926T183000
DTEND;TZID=America/New_York:20130926T210000
END:VEVENT
END:VCALENDAR
