BEGIN:VCALENDAR
PRODID:-//eluceo/ical//2.0/EN
VERSION:2.0
CALSCALE:GREGORIAN
BEGIN:VEVENT
UID:c90f556220d1862f590011770ec4c297
DTSTAMP:20260422T201410Z
SUMMARY:CAA Shabbat - Passover 5785
DESCRIPTION:Jewish Federation of Central Massachusetts\nCalendar\nhttps://j
 ewishcentralmass.org/calendar/caa-shabbat-passover-5785\n\nCAA Shabbat - P
 assover\n\n11:00 am
DTSTART;TZID=America/New_York:20250419T110000
DTEND;TZID=America/New_York:20250419T130000
END:VEVENT
END:VCALENDAR
