BEGIN:VCALENDAR
PRODID:-//eluceo/ical//2.0/EN
VERSION:2.0
CALSCALE:GREGORIAN
BEGIN:VEVENT
UID:e1bfeecdc27189354cce23cafc38392e
DTSTAMP:20260423T140730Z
SUMMARY:CAA Shabbat - December 2024
DESCRIPTION:Jewish Federation of Central Massachusetts\nCalendar\nhttps://j
 ewishcentralmass.org/calendar/caa-shabbat-december-2024\n\nCAA Shabbat\n\n
 11:00 am
DTSTART;TZID=America/New_York:20241221T110000
DTEND;TZID=America/New_York:20241221T130000
END:VEVENT
END:VCALENDAR
