BEGIN:VCALENDAR
PRODID:-//eluceo/ical//2.0/EN
VERSION:2.0
CALSCALE:GREGORIAN
BEGIN:VEVENT
UID:2e9bd9443db41106e4305d9b31cb7dc0
DTSTAMP:20260423T094245Z
SUMMARY:CAA Savava Pros Shabbat
DESCRIPTION:Jewish Federation of Central Massachusetts\nCalendar\nhttps://j
 ewishcentralmass.org/calendar/caa-savava-pros-shabbat\n\nCAA Savava Pros S
 habbat\n\n11:00 am
DTSTART;TZID=America/New_York:20241116T110000
DTEND;TZID=America/New_York:20241116T130000
END:VEVENT
END:VCALENDAR
