BEGIN:VCALENDAR
PRODID:-//eluceo/ical//2.0/EN
VERSION:2.0
CALSCALE:GREGORIAN
BEGIN:VEVENT
UID:4c3ee8195283c81cdd0ed142b5feea33
DTSTAMP:20260421T004356Z
SUMMARY:CAA - Sabba May '26
DESCRIPTION:Jewish Federation of Central Massachusetts\nCalendar\nhttps://j
 ewishcentralmass.org/calendar/caa-sabba-may-26\n\nCAA - Sabba\n\n11:00 am 
 - 12:00 pm
DTSTART;TZID=America/New_York:20260523T110000
DTEND;TZID=America/New_York:20260523T120000
END:VEVENT
END:VCALENDAR
