BEGIN:VCALENDAR
PRODID:-//eluceo/ical//2.0/EN
VERSION:2.0
CALSCALE:GREGORIAN
BEGIN:VEVENT
UID:63e48431c997da7c38795bb17f63e69d
DTSTAMP:20260422T133053Z
SUMMARY:CAA Purim 5785
DESCRIPTION:Jewish Federation of Central Massachusetts\nCalendar\nhttps://j
 ewishcentralmass.org/calendar/caa-purim-5785\n\nCAA Purim 5785\n\n6:00 pm
DTSTART;TZID=America/New_York:20250313T180000
DTEND;TZID=America/New_York:20250313T200000
END:VEVENT
END:VCALENDAR
