BEGIN:VCALENDAR
PRODID:-//eluceo/ical//2.0/EN
VERSION:2.0
CALSCALE:GREGORIAN
BEGIN:VEVENT
UID:61919b7db09e462a0e269e599c3d85f1
DTSTAMP:20260424T190250Z
SUMMARY:CAA Pizza in Hut
DESCRIPTION:Jewish Federation of Central Massachusetts\nCalendar\nhttps://j
 ewishcentralmass.org/calendar/caa-pizza-in-hut\n\nCAA Pizza in Hut\n\n11:0
 0 am
DTSTART;TZID=America/New_York:20241020T110000
DTEND;TZID=America/New_York:20241020T130000
END:VEVENT
END:VCALENDAR
