BEGIN:VCALENDAR
PRODID:-//eluceo/ical//2.0/EN
VERSION:2.0
CALSCALE:GREGORIAN
BEGIN:VEVENT
UID:e422343ecad17a411a330275a51ed547
DTSTAMP:20260424T011429Z
SUMMARY:CAA Matzah Brei Cook-off
DESCRIPTION:Jewish Federation of Central Massachusetts\nCalendar\nhttps://j
 ewishcentralmass.org/calendar/caa-mitzv-cookoff\n\nCAA Matzah Brei Cook-of
 f\n\n10:00 am
DTSTART;TZID=America/New_York:20250420T100000
DTEND;TZID=America/New_York:20250420T120000
END:VEVENT
END:VCALENDAR
