BEGIN:VCALENDAR
PRODID:-//eluceo/ical//2.0/EN
VERSION:2.0
CALSCALE:GREGORIAN
BEGIN:VEVENT
UID:51c6e93bfec48a265784bbdbbbb97a5a
DTSTAMP:20260424T210346Z
SUMMARY:CAA - Last day Religion School 2026
DESCRIPTION:Jewish Federation of Central Massachusetts\nCalendar\nhttps://j
 ewishcentralmass.org/calendar/caa-last-day-religion-school-2026\n\nCAA - L
 ast day Religion School\n\n11:00 am - 12:00 pm
DTSTART;TZID=America/New_York:20260517T110000
DTEND;TZID=America/New_York:20260517T120000
END:VEVENT
END:VCALENDAR
