BEGIN:VCALENDAR
PRODID:-//eluceo/ical//2.0/EN
VERSION:2.0
CALSCALE:GREGORIAN
BEGIN:VEVENT
UID:4e21f3b3e3b883f36567eaefb1a1c127
DTSTAMP:20260422T121618Z
SUMMARY:CAA Last day of Rel School 2025
DESCRIPTION:Jewish Federation of Central Massachusetts\nCalendar\nhttps://j
 ewishcentralmass.org/calendar/caa-last-day-of-rel-school-2025\n\nCAA Last 
 day of Rel School 2025
DTSTART;TZID=America/New_York:20250511T100000
DTEND;TZID=America/New_York:20250511T120000
END:VEVENT
END:VCALENDAR
