BEGIN:VCALENDAR
PRODID:-//eluceo/ical//2.0/EN
VERSION:2.0
CALSCALE:GREGORIAN
BEGIN:VEVENT
UID:d566182097de4bdcfd8a0158b42fb260
DTSTAMP:20260420T081915Z
SUMMARY:CAA - Kabbalah Shabbat
DESCRIPTION:Jewish Federation of Central Massachusetts\nCalendar\nhttps://j
 ewishcentralmass.org/calendar/caa-kabbalah-shabbat\n\nCAA - Kabbalah Shabb
 at\n\n6:00 pm
DTSTART;TZID=America/New_York:20251024T180000
DTEND;TZID=America/New_York:20251024T200000
END:VEVENT
END:VCALENDAR
