BEGIN:VCALENDAR
PRODID:-//eluceo/ical//2.0/EN
VERSION:2.0
CALSCALE:GREGORIAN
BEGIN:VEVENT
UID:92c75e6de9f96913f930addcefee8ef7
DTSTAMP:20260424T134254Z
SUMMARY:CAA Israel Day
DESCRIPTION:Jewish Federation of Central Massachusetts\nCalendar\nhttps://j
 ewishcentralmass.org/calendar/caa-israel-day\n\nCAA Israel Day\n\n10:00 am
DTSTART;TZID=America/New_York:20250504T100000
DTEND;TZID=America/New_York:20250504T120000
END:VEVENT
END:VCALENDAR
