BEGIN:VCALENDAR
PRODID:-//eluceo/ical//2.0/EN
VERSION:2.0
CALSCALE:GREGORIAN
BEGIN:VEVENT
UID:b8367f4ec258d60159d0dd5242518492
DTSTAMP:20260424T013702Z
SUMMARY:PJ and CAA Hanukkah on the go Craft Program
DESCRIPTION:Jewish Federation of Central Massachusetts\nCalendar\nhttps://j
 ewishcentralmass.org/calendar/caa-hanukkah-on-the-go-craft-program\n\nPJ a
 nd CAA Hanukkah on the go Craft Program\n\n10:00 am
DTSTART;TZID=America/New_York:20241222T100000
DTEND;TZID=America/New_York:20241222T120000
END:VEVENT
END:VCALENDAR
