BEGIN:VCALENDAR
PRODID:-//eluceo/ical//2.0/EN
VERSION:2.0
CALSCALE:GREGORIAN
BEGIN:VEVENT
UID:4f4f5ea036612fc14bc978100065f645
DTSTAMP:20260421T101333Z
SUMMARY:BT Womens Service and Program
DESCRIPTION:Jewish Federation of Central Massachusetts\nCalendar\nhttps://j
 ewishcentralmass.org/calendar/bt-womens-service-and-program\n\nBT Womens S
 ervice and Program\n\n9:30 am
DTSTART;TZID=America/New_York:20250308T093000
DTEND;TZID=America/New_York:20250308T113000
END:VEVENT
END:VCALENDAR
