BEGIN:VCALENDAR
PRODID:-//eluceo/ical//2.0/EN
VERSION:2.0
CALSCALE:GREGORIAN
BEGIN:VEVENT
UID:87b833ec18b05915740bb0a7d54c0f21
DTSTAMP:20260423T094355Z
SUMMARY:BT Tu Shevat Seder
DESCRIPTION:Jewish Federation of Central Massachusetts\nCalendar\nhttps://j
 ewishcentralmass.org/calendar/bt-tu-shevat-seder\n\nBT Tu Shevat Seder\n\n
 Time: TBD
DTSTART;TZID=America/New_York:20240125T180000
DTEND;TZID=America/New_York:20240125T200000
END:VEVENT
END:VCALENDAR
