BEGIN:VCALENDAR
PRODID:-//eluceo/ical//2.0/EN
VERSION:2.0
CALSCALE:GREGORIAN
BEGIN:VEVENT
UID:94ef4358913e9f650767d7d3ba6c2288
DTSTAMP:20260421T022814Z
SUMMARY:BT Trivia Night - March 2024
DESCRIPTION:Jewish Federation of Central Massachusetts\nCalendar\nhttps://j
 ewishcentralmass.org/calendar/bt-trivia-night-march-2024\n\nBT Trivia Nigh
 t\n\n7:00 pm
DTSTART;TZID=America/New_York:20240309T190000
DTEND;TZID=America/New_York:20240309T210000
END:VEVENT
END:VCALENDAR
