BEGIN:VCALENDAR
PRODID:-//eluceo/ical//2.0/EN
VERSION:2.0
CALSCALE:GREGORIAN
BEGIN:VEVENT
UID:37c094da3f2931c9b2322d626ff5e820
DTSTAMP:20260423T024824Z
SUMMARY:BT - Trivia Night
DESCRIPTION:Jewish Federation of Central Massachusetts\nCalendar\nhttps://j
 ewishcentralmass.org/calendar/bt-trivia-night\n\nBT - Trivia Night
DTSTART;TZID=America/New_York:20220319T190000
DTEND;TZID=America/New_York:20220319T210000
END:VEVENT
END:VCALENDAR
