BEGIN:VCALENDAR
PRODID:-//eluceo/ical//2.0/EN
VERSION:2.0
CALSCALE:GREGORIAN
BEGIN:VEVENT
UID:4c575a5f52efb9b784e250f0e3c120b9
DTSTAMP:20260422T034834Z
SUMMARY:BT Torah Study May 2025
DESCRIPTION:Jewish Federation of Central Massachusetts\nCalendar\nhttps://j
 ewishcentralmass.org/calendar/bt-torah-study-may-2025\n\nBT Torah Study
DTSTART;TZID=America/New_York:20250517T100000
DTEND;TZID=America/New_York:20250517T120000
END:VEVENT
END:VCALENDAR
