BEGIN:VCALENDAR
PRODID:-//eluceo/ical//2.0/EN
VERSION:2.0
CALSCALE:GREGORIAN
BEGIN:VEVENT
UID:d6c6ca51fe3b9638198ea2ea98645b87
DTSTAMP:20260422T020218Z
SUMMARY:BT Torah Study
DESCRIPTION:Jewish Federation of Central Massachusetts\nCalendar\nhttps://j
 ewishcentralmass.org/calendar/bt-torah-study\n\nBT Torah Study\n\n10:00 am
DTSTART;TZID=America/New_York:20250125T100000
DTEND;TZID=America/New_York:20250125T120000
END:VEVENT
END:VCALENDAR
