BEGIN:VCALENDAR
PRODID:-//eluceo/ical//2.0/EN
VERSION:2.0
CALSCALE:GREGORIAN
BEGIN:VEVENT
UID:72eaf9037b9ef60c8101aac9600df522
DTSTAMP:20260424T193336Z
SUMMARY:BT Sukkot Program
DESCRIPTION:Jewish Federation of Central Massachusetts\nCalendar\nhttps://j
 ewishcentralmass.org/calendar/bt-sukkot-program\n\nBT Sukkot Program\n\n10
 :00 am
DTSTART;TZID=America/New_York:20231001T100000
DTEND;TZID=America/New_York:20231001T120000
END:VEVENT
END:VCALENDAR
